{
 "currentVersion": 11.3,
 "serviceDescription": "2023_Imagery",
 "name": "2023_Imagery",
 "description": "",
 "extent": {
  "xmin": 2218279,
  "ymin": 284996,
  "xmax": 2486989,
  "ymax": 759685,
  "spatialReference": {
   "wkid": 2926,
   "latestWkid": 2926
  }
 },
 "initialExtent": {
  "xmin": 2218279,
  "ymin": 284996,
  "xmax": 2486989,
  "ymax": 759685,
  "spatialReference": {
   "wkid": 2926,
   "latestWkid": 2926
  }
 },
 "fullExtent": {
  "xmin": 2218279,
  "ymin": 284996,
  "xmax": 2486989,
  "ymax": 759685,
  "spatialReference": {
   "wkid": 2926,
   "latestWkid": 2926
  }
 },
 "sortableFields": "MinPS,MaxPS,LowPS,HighPS,CenterX,CenterY,ZOrder,Shape_Length,Shape_Area",
 "bandCount": 4,
 "pixelType": "U8",
 "minValues": [
  1,
  1,
  13,
  1
 ],
 "maxValues": [
  247,
  244,
  238,
  246
 ],
 "meanValues": [
  91.08670282708857,
  99.96002144835658,
  70.65428805466578,
  162.66494082839742
 ],
 "stdvValues": [
  39.39909863006451,
  32.78003457257625,
  26.55316414848708,
  43.83364800946702
 ],
 "hasMultidimensions": false,
 "pixelSizeX": 1,
 "pixelSizeY": 1,
 "meanPixelSize": 0.30480060960121924,
 "datasetFormat": "AMD",
 "uncompressedSize": 510214724760,
 "blockWidth": 2048,
 "blockHeight": 256,
 "compressionType": "None",
 "bandNames": [
  "Band_1",
  "Band_2",
  "Band_3",
  "Band_4"
 ],
 "allowCopy": true,
 "allowAnalysis": true,
 "itemAccess": false,
 "inspectionCapabilities": "",
 "minPixelSize": 0,
 "maxPixelSize": 0,
 "copyrightText": "",
 "serviceDataType": "esriImageServiceDataTypeGeneric",
 "serviceSourceType": "esriImageServiceSourceTypeMosaicDataset",
 "objectIdField": "OBJECTID",
 "fields": [
  {
   "name": "OBJECTID",
   "type": "esriFieldTypeOID",
   "alias": "OBJECTID",
   "domain": null
  },
  {
   "name": "Shape",
   "type": "esriFieldTypeGeometry",
   "alias": "Shape",
   "domain": null
  },
  {
   "name": "Name",
   "type": "esriFieldTypeString",
   "alias": "Name",
   "domain": null,
   "length": 200
  },
  {
   "name": "MinPS",
   "type": "esriFieldTypeDouble",
   "alias": "MinPS",
   "domain": null
  },
  {
   "name": "MaxPS",
   "type": "esriFieldTypeDouble",
   "alias": "MaxPS",
   "domain": null
  },
  {
   "name": "LowPS",
   "type": "esriFieldTypeDouble",
   "alias": "LowPS",
   "domain": null
  },
  {
   "name": "HighPS",
   "type": "esriFieldTypeDouble",
   "alias": "HighPS",
   "domain": null
  },
  {
   "name": "Category",
   "type": "esriFieldTypeInteger",
   "alias": "Category",
   "domain": {
    "type": "codedValue",
    "name": "MosaicCatalogItemCategoryDomain",
    "description": "Catalog item categories.",
    "codedValues": [
     {
      "name": "Unknown",
      "code": 0
     },
     {
      "name": "Primary",
      "code": 1
     },
     {
      "name": "Overview",
      "code": 2
     },
     {
      "name": "Unprocessed Overview",
      "code": 3
     },
     {
      "name": "Partial Overview",
      "code": 4
     },
     {
      "name": "Inactive",
      "code": 5
     },
     {
      "name": "Uploaded",
      "code": 253
     },
     {
      "name": "Incomplete",
      "code": 254
     },
     {
      "name": "Custom",
      "code": 255
     }
    ],
    "mergePolicy": "esriMPTDefaultValue",
    "splitPolicy": "esriSPTDefaultValue"
   }
  },
  {
   "name": "Tag",
   "type": "esriFieldTypeString",
   "alias": "Tag",
   "domain": null,
   "length": 100
  },
  {
   "name": "GroupName",
   "type": "esriFieldTypeString",
   "alias": "GroupName",
   "domain": null,
   "length": 100
  },
  {
   "name": "ProductName",
   "type": "esriFieldTypeString",
   "alias": "ProductName",
   "domain": null,
   "length": 100
  },
  {
   "name": "CenterX",
   "type": "esriFieldTypeDouble",
   "alias": "CenterX",
   "domain": null
  },
  {
   "name": "CenterY",
   "type": "esriFieldTypeDouble",
   "alias": "CenterY",
   "domain": null
  },
  {
   "name": "ZOrder",
   "type": "esriFieldTypeInteger",
   "alias": "ZOrder",
   "domain": null
  },
  {
   "name": "Shape_Length",
   "type": "esriFieldTypeDouble",
   "alias": "Shape_Length",
   "domain": null
  },
  {
   "name": "Shape_Area",
   "type": "esriFieldTypeDouble",
   "alias": "Shape_Area",
   "domain": null
  }
 ],
 "capabilities": "Catalog,Image,Metadata",
 "defaultMosaicMethod": "Northwest",
 "allowedMosaicMethods": "NorthWest,Center,LockRaster,ByAttribute,Nadir,Viewpoint,Seamline,None",
 "sortField": "",
 "sortValue": null,
 "sortAscending": true,
 "mosaicOperator": "First",
 "maxDownloadSizeLimit": 2048,
 "defaultCompressionQuality": 75,
 "defaultResamplingMethod": "Bilinear",
 "maxImageHeight": 4100,
 "maxImageWidth": 15000,
 "maxRecordCount": 1000,
 "maxDownloadImageCount": 20,
 "maxMosaicImageCount": 30,
 "singleFusedMapCache": true,
 "tileInfo": {
  "rows": 256,
  "cols": 256,
  "dpi": 96,
  "format": "MIXED",
  "compressionQuality": 75,
  "origin": {
   "x": -117104300,
   "y": 137949800
  },
  "spatialReference": {
   "wkid": 2926,
   "latestWkid": 2926
  },
  "lods": [
   {
    "level": 0,
    "resolution": 868.0555555555555,
    "scale": 1000000
   },
   {
    "level": 1,
    "resolution": 434.02777777777777,
    "scale": 500000
   },
   {
    "level": 2,
    "resolution": 217.01388888888889,
    "scale": 250000
   },
   {
    "level": 3,
    "resolution": 108.50694444444444,
    "scale": 125000
   },
   {
    "level": 4,
    "resolution": 55.55555555555555,
    "scale": 64000
   },
   {
    "level": 5,
    "resolution": 27.777777777777775,
    "scale": 32000
   },
   {
    "level": 6,
    "resolution": 13.888888888888888,
    "scale": 16000
   },
   {
    "level": 7,
    "resolution": 6.944444444444444,
    "scale": 8000
   },
   {
    "level": 8,
    "resolution": 3.472222222222222,
    "scale": 4000
   },
   {
    "level": 9,
    "resolution": 1.736111111111111,
    "scale": 2000
   },
   {
    "level": 10,
    "resolution": 0.8680555555555555,
    "scale": 1000
   }
  ]
 },
 "storageInfo": {
  "storageFormat": "esriMapCacheStorageModeCompactV2",
  "packetSize": 128
 },
 "cacheType": "Map",
 "allowRasterFunction": true,
 "rasterFunctionInfos": [
  {
   "name": "None",
   "description": "Make a Raster or Raster Dataset into a Function Raster Dataset.",
   "help": ""
  },
  {
   "name": "None",
   "description": "Make a Raster or Raster Dataset into a Function Raster Dataset.",
   "help": ""
  }
 ],
 "rasterTypeInfos": [
  {
   "name": "Raster Dataset",
   "description": "Supports all ArcGIS Raster Datasets",
   "help": ""
  }
 ],
 "mensurationCapabilities": "Basic",
 "hasHistograms": true,
 "hasColormap": false,
 "hasRasterAttributeTable": false,
 "minScale": 0,
 "maxScale": 0,
 "exportTilesAllowed": false,
 "supportsStatistics": true,
 "supportsAdvancedQueries": true,
 "editFieldsInfo": null,
 "ownershipBasedAccessControlForRasters": null,
 "allowComputeTiePoints": false,
 "useStandardizedQueries": true,
 "advancedQueryCapabilities": {
  "useStandardizedQueries": true,
  "supportsStatistics": true,
  "supportsOrderBy": true,
  "supportsDistinct": true,
  "supportsPagination": true
 },
 "spatialReference": {
  "wkid": 2926,
  "latestWkid": 2926
 },
 "resampling": false
}
