<?xml version="1.0" encoding="UTF-8" standalone="no"?>
<metadata xml:lang="en">
<Esri>
<CreaDate>20130107</CreaDate>
<CreaTime>12033300</CreaTime>
<ArcGISFormat>1.0</ArcGISFormat>
<ArcGISstyle>FGDC CSDGM Metadata</ArcGISstyle>
<SyncOnce>FALSE</SyncOnce>
<DataProperties>
<itemProps>
<itemName Sync="TRUE">ChMosaic_ProjectRaster.tif</itemName>
<itemLocation>
<linkage Sync="TRUE">file://E:\StevensCo_6in_orthos\Chewelah\ChMosaic_ProjectRaster.tif</linkage>
<protocol Sync="TRUE">Local Area Network</protocol>
</itemLocation>
<imsContentType Sync="TRUE">002</imsContentType>
<nativeExtBox>
<westBL Sync="TRUE">439585.082365</westBL>
<eastBL Sync="TRUE">452045.940887</eastBL>
<southBL Sync="TRUE">5343084.483338</southBL>
<northBL Sync="TRUE">5355545.341859</northBL>
<exTypeCode Sync="TRUE">1</exTypeCode>
</nativeExtBox>
</itemProps>
<coordRef>
<type Sync="TRUE">Projected</type>
<geogcsn Sync="TRUE">GCS_North_American_1983</geogcsn>
<csUnits Sync="TRUE">Linear Unit: Meter (1.000000)</csUnits>
<projcsn Sync="TRUE">NAD_1983_UTM_Zone_11N</projcsn>
<peXml Sync="TRUE">&lt;ProjectedCoordinateSystem xsi:type='typens:ProjectedCoordinateSystem' xmlns:xsi='http://www.w3.org/2001/XMLSchema-instance' xmlns:xs='http://www.w3.org/2001/XMLSchema' xmlns:typens='http://www.esri.com/schemas/ArcGIS/10.1'&gt;&lt;WKT&gt;PROJCS[&amp;quot;NAD_1983_UTM_Zone_11N&amp;quot;,GEOGCS[&amp;quot;GCS_North_American_1983&amp;quot;,DATUM[&amp;quot;D_North_American_1983&amp;quot;,SPHEROID[&amp;quot;GRS_1980&amp;quot;,6378137.0,298.257222101]],PRIMEM[&amp;quot;Greenwich&amp;quot;,0.0],UNIT[&amp;quot;Degree&amp;quot;,0.0174532925199433]],PROJECTION[&amp;quot;Transverse_Mercator&amp;quot;],PARAMETER[&amp;quot;False_Easting&amp;quot;,500000.0],PARAMETER[&amp;quot;False_Northing&amp;quot;,0.0],PARAMETER[&amp;quot;Central_Meridian&amp;quot;,-117.0],PARAMETER[&amp;quot;Scale_Factor&amp;quot;,0.9996],PARAMETER[&amp;quot;Latitude_Of_Origin&amp;quot;,0.0],UNIT[&amp;quot;Meter&amp;quot;,1.0],AUTHORITY[&amp;quot;EPSG&amp;quot;,26911]]&lt;/WKT&gt;&lt;XOrigin&gt;-5120900&lt;/XOrigin&gt;&lt;YOrigin&gt;-9998100&lt;/YOrigin&gt;&lt;XYScale&gt;450445547.3910538&lt;/XYScale&gt;&lt;ZOrigin&gt;-100000&lt;/ZOrigin&gt;&lt;ZScale&gt;10000&lt;/ZScale&gt;&lt;MOrigin&gt;-100000&lt;/MOrigin&gt;&lt;MScale&gt;10000&lt;/MScale&gt;&lt;XYTolerance&gt;0.001&lt;/XYTolerance&gt;&lt;ZTolerance&gt;0.001&lt;/ZTolerance&gt;&lt;MTolerance&gt;0.001&lt;/MTolerance&gt;&lt;HighPrecision&gt;true&lt;/HighPrecision&gt;&lt;WKID&gt;26911&lt;/WKID&gt;&lt;LatestWKID&gt;26911&lt;/LatestWKID&gt;&lt;/ProjectedCoordinateSystem&gt;</peXml>
</coordRef>
<RasterProperties>
<General>
<PixelDepth Sync="TRUE">8</PixelDepth>
<HasColormap Sync="TRUE">FALSE</HasColormap>
<CompressionType Sync="TRUE">LZW</CompressionType>
<NumBands Sync="TRUE">4</NumBands>
<Format Sync="TRUE">TIFF</Format>
<HasPyramids Sync="TRUE">TRUE</HasPyramids>
<SourceType Sync="TRUE">continuous</SourceType>
<PixelType Sync="TRUE">unsigned integer</PixelType>
<NoDataValue Sync="TRUE">256</NoDataValue>
</General>
</RasterProperties>
<lineage>
<Process Date="20130107" Time="121858" ToolSource="c:\program files\arcgis\desktop10.1\ArcToolbox\Toolboxes\Data Management Tools.tbx\MosaicToNewRaster">MosaicToNewRaster E:\StevensCo_6in_orthos\Chewelah\t2376_468.tif;E:\StevensCo_6in_orthos\Chewelah\t2376_471.tif;E:\StevensCo_6in_orthos\Chewelah\t2376_474.tif;E:\StevensCo_6in_orthos\Chewelah\t2376_477.tif;E:\StevensCo_6in_orthos\Chewelah\t2376_480.tif;E:\StevensCo_6in_orthos\Chewelah\t2376_483.tif;E:\StevensCo_6in_orthos\Chewelah\t2376_486.tif;E:\StevensCo_6in_orthos\Chewelah\t2376_489.tif;E:\StevensCo_6in_orthos\Chewelah\t2376_492.tif;E:\StevensCo_6in_orthos\Chewelah\t2376_495.tif;E:\StevensCo_6in_orthos\Chewelah\t2376_498.tif;E:\StevensCo_6in_orthos\Chewelah\t2376_501.tif;E:\StevensCo_6in_orthos\Chewelah\t2376_504.tif;E:\StevensCo_6in_orthos\Chewelah\t2379_468.tif;E:\StevensCo_6in_orthos\Chewelah\t2379_471.tif;E:\StevensCo_6in_orthos\Chewelah\t2379_474.tif;E:\StevensCo_6in_orthos\Chewelah\t2379_477.tif;E:\StevensCo_6in_orthos\Chewelah\t2379_480.tif;E:\StevensCo_6in_orthos\Chewelah\t2379_483.tif;E:\StevensCo_6in_orthos\Chewelah\t2379_486.tif;E:\StevensCo_6in_orthos\Chewelah\t2379_489.tif;E:\StevensCo_6in_orthos\Chewelah\t2379_492.tif;E:\StevensCo_6in_orthos\Chewelah\t2379_495.tif;E:\StevensCo_6in_orthos\Chewelah\t2379_498.tif;E:\StevensCo_6in_orthos\Chewelah\t2379_501.tif;E:\StevensCo_6in_orthos\Chewelah\t2379_504.tif;E:\StevensCo_6in_orthos\Chewelah\t2382_468.tif;E:\StevensCo_6in_orthos\Chewelah\t2382_471.tif;E:\StevensCo_6in_orthos\Chewelah\t2382_474.tif;E:\StevensCo_6in_orthos\Chewelah\t2382_477.tif;E:\StevensCo_6in_orthos\Chewelah\t2382_480.tif;E:\StevensCo_6in_orthos\Chewelah\t2382_483.tif;E:\StevensCo_6in_orthos\Chewelah\t2382_486.tif;E:\StevensCo_6in_orthos\Chewelah\t2382_489.tif;E:\StevensCo_6in_orthos\Chewelah\t2382_492.tif;E:\StevensCo_6in_orthos\Chewelah\t2382_495.tif;E:\StevensCo_6in_orthos\Chewelah\t2382_498.tif;E:\StevensCo_6in_orthos\Chewelah\t2382_501.tif;E:\StevensCo_6in_orthos\Chewelah\t2382_504.tif;E:\StevensCo_6in_orthos\Chewelah\t2385_468.tif;E:\StevensCo_6in_orthos\Chewelah\t2385_471.tif;E:\StevensCo_6in_orthos\Chewelah\t2385_474.tif;E:\StevensCo_6in_orthos\Chewelah\t2385_477.tif;E:\StevensCo_6in_orthos\Chewelah\t2385_480.tif;E:\StevensCo_6in_orthos\Chewelah\t2385_483.tif;E:\StevensCo_6in_orthos\Chewelah\t2385_486.tif;E:\StevensCo_6in_orthos\Chewelah\t2385_489.tif;E:\StevensCo_6in_orthos\Chewelah\t2385_492.tif;E:\StevensCo_6in_orthos\Chewelah\t2385_495.tif;E:\StevensCo_6in_orthos\Chewelah\t2385_498.tif;E:\StevensCo_6in_orthos\Chewelah\t2385_501.tif;E:\StevensCo_6in_orthos\Chewelah\t2385_504.tif;E:\StevensCo_6in_orthos\Chewelah\t2388_468.tif;E:\StevensCo_6in_orthos\Chewelah\t2388_471.tif;E:\StevensCo_6in_orthos\Chewelah\t2388_474.tif;E:\StevensCo_6in_orthos\Chewelah\t2388_477.tif;E:\StevensCo_6in_orthos\Chewelah\t2388_480.tif;E:\StevensCo_6in_orthos\Chewelah\t2388_483.tif;E:\StevensCo_6in_orthos\Chewelah\t2388_486.tif;E:\StevensCo_6in_orthos\Chewelah\t2388_489.tif;E:\StevensCo_6in_orthos\Chewelah\t2388_492.tif;E:\StevensCo_6in_orthos\Chewelah\t2388_495.tif;E:\StevensCo_6in_orthos\Chewelah\t2388_498.tif;E:\StevensCo_6in_orthos\Chewelah\t2388_501.tif;E:\StevensCo_6in_orthos\Chewelah\t2388_504.tif;E:\StevensCo_6in_orthos\Chewelah\t2391_468.tif;E:\StevensCo_6in_orthos\Chewelah\t2391_471.tif;E:\StevensCo_6in_orthos\Chewelah\t2391_474.tif;E:\StevensCo_6in_orthos\Chewelah\t2391_477.tif;E:\StevensCo_6in_orthos\Chewelah\t2391_480.tif;E:\StevensCo_6in_orthos\Chewelah\t2391_483.tif;E:\StevensCo_6in_orthos\Chewelah\t2391_486.tif;E:\StevensCo_6in_orthos\Chewelah\t2391_489.tif;E:\StevensCo_6in_orthos\Chewelah\t2391_492.tif;E:\StevensCo_6in_orthos\Chewelah\t2391_495.tif;E:\StevensCo_6in_orthos\Chewelah\t2391_498.tif;E:\StevensCo_6in_orthos\Chewelah\t2391_501.tif;E:\StevensCo_6in_orthos\Chewelah\t2391_504.tif;E:\StevensCo_6in_orthos\Chewelah\t2394_468.tif;E:\StevensCo_6in_orthos\Chewelah\t2394_471.tif;E:\StevensCo_6in_orthos\Chewelah\t2394_474.tif;E:\StevensCo_6in_orthos\Chewelah\t2394_477.tif;E:\StevensCo_6in_orthos\Chewelah\t2394_480.tif;E:\StevensCo_6in_orthos\Chewelah\t2394_483.tif;E:\StevensCo_6in_orthos\Chewelah\t2394_486.tif;E:\StevensCo_6in_orthos\Chewelah\t2394_489.tif;E:\StevensCo_6in_orthos\Chewelah\t2394_492.tif;E:\StevensCo_6in_orthos\Chewelah\t2394_495.tif;E:\StevensCo_6in_orthos\Chewelah\t2394_498.tif;E:\StevensCo_6in_orthos\Chewelah\t2394_501.tif;E:\StevensCo_6in_orthos\Chewelah\t2394_504.tif;E:\StevensCo_6in_orthos\Chewelah\t2397_468.tif;E:\StevensCo_6in_orthos\Chewelah\t2397_471.tif;E:\StevensCo_6in_orthos\Chewelah\t2397_474.tif;E:\StevensCo_6in_orthos\Chewelah\t2397_477.tif;E:\StevensCo_6in_orthos\Chewelah\t2397_480.tif;E:\StevensCo_6in_orthos\Chewelah\t2397_483.tif;E:\StevensCo_6in_orthos\Chewelah\t2397_486.tif;E:\StevensCo_6in_orthos\Chewelah\t2397_489.tif;E:\StevensCo_6in_orthos\Chewelah\t2397_492.tif;E:\StevensCo_6in_orthos\Chewelah\t2397_495.tif;E:\StevensCo_6in_orthos\Chewelah\t2397_498.tif;E:\StevensCo_6in_orthos\Chewelah\t2397_501.tif;E:\StevensCo_6in_orthos\Chewelah\t2397_504.tif;E:\StevensCo_6in_orthos\Chewelah\t2400_468.tif;E:\StevensCo_6in_orthos\Chewelah\t2400_471.tif;E:\StevensCo_6in_orthos\Chewelah\t2400_474.tif;E:\StevensCo_6in_orthos\Chewelah\t2400_477.tif;E:\StevensCo_6in_orthos\Chewelah\t2400_480.tif;E:\StevensCo_6in_orthos\Chewelah\t2400_483.tif;E:\StevensCo_6in_orthos\Chewelah\t2400_486.tif;E:\StevensCo_6in_orthos\Chewelah\t2400_489.tif;E:\StevensCo_6in_orthos\Chewelah\t2400_492.tif;E:\StevensCo_6in_orthos\Chewelah\t2400_495.tif;E:\StevensCo_6in_orthos\Chewelah\t2400_498.tif;E:\StevensCo_6in_orthos\Chewelah\t2400_501.tif;E:\StevensCo_6in_orthos\Chewelah\t2400_504.tif;E:\StevensCo_6in_orthos\Chewelah\t2403_468.tif;E:\StevensCo_6in_orthos\Chewelah\t2403_471.tif;E:\StevensCo_6in_orthos\Chewelah\t2403_474.tif;E:\StevensCo_6in_orthos\Chewelah\t2403_477.tif;E:\StevensCo_6in_orthos\Chewelah\t2403_480.tif;E:\StevensCo_6in_orthos\Chewelah\t2403_483.tif;E:\StevensCo_6in_orthos\Chewelah\t2403_486.tif;E:\StevensCo_6in_orthos\Chewelah\t2403_489.tif;E:\StevensCo_6in_orthos\Chewelah\t2403_492.tif;E:\StevensCo_6in_orthos\Chewelah\t2403_495.tif;E:\StevensCo_6in_orthos\Chewelah\t2403_498.tif;E:\StevensCo_6in_orthos\Chewelah\t2403_501.tif;E:\StevensCo_6in_orthos\Chewelah\t2403_504.tif;E:\StevensCo_6in_orthos\Chewelah\t2406_468.tif;E:\StevensCo_6in_orthos\Chewelah\t2406_471.tif;E:\StevensCo_6in_orthos\Chewelah\t2406_474.tif;E:\StevensCo_6in_orthos\Chewelah\t2406_477.tif;E:\StevensCo_6in_orthos\Chewelah\t2406_480.tif;E:\StevensCo_6in_orthos\Chewelah\t2406_483.tif;E:\StevensCo_6in_orthos\Chewelah\t2406_486.tif;E:\StevensCo_6in_orthos\Chewelah\t2406_489.tif;E:\StevensCo_6in_orthos\Chewelah\t2406_492.tif;E:\StevensCo_6in_orthos\Chewelah\t2406_495.tif;E:\StevensCo_6in_orthos\Chewelah\t2406_498.tif;E:\StevensCo_6in_orthos\Chewelah\t2406_501.tif;E:\StevensCo_6in_orthos\Chewelah\t2406_504.tif;E:\StevensCo_6in_orthos\Chewelah\t2409_468.tif;E:\StevensCo_6in_orthos\Chewelah\t2409_471.tif;E:\StevensCo_6in_orthos\Chewelah\t2409_474.tif;E:\StevensCo_6in_orthos\Chewelah\t2409_477.tif;E:\StevensCo_6in_orthos\Chewelah\t2409_480.tif;E:\StevensCo_6in_orthos\Chewelah\t2409_483.tif;E:\StevensCo_6in_orthos\Chewelah\t2409_486.tif;E:\StevensCo_6in_orthos\Chewelah\t2409_489.tif;E:\StevensCo_6in_orthos\Chewelah\t2409_492.tif;E:\StevensCo_6in_orthos\Chewelah\t2409_495.tif;E:\StevensCo_6in_orthos\Chewelah\t2409_498.tif;E:\StevensCo_6in_orthos\Chewelah\t2409_501.tif;E:\StevensCo_6in_orthos\Chewelah\t2409_504.tif;E:\StevensCo_6in_orthos\Chewelah\t2412_468.tif;E:\StevensCo_6in_orthos\Chewelah\t2412_471.tif;E:\StevensCo_6in_orthos\Chewelah\t2412_474.tif;E:\StevensCo_6in_orthos\Chewelah\t2412_477.tif;E:\StevensCo_6in_orthos\Chewelah\t2412_480.tif;E:\StevensCo_6in_orthos\Chewelah\t2412_483.tif;E:\StevensCo_6in_orthos\Chewelah\t2412_486.tif;E:\StevensCo_6in_orthos\Chewelah\t2412_489.tif;E:\StevensCo_6in_orthos\Chewelah\t2412_492.tif;E:\StevensCo_6in_orthos\Chewelah\t2412_495.tif;E:\StevensCo_6in_orthos\Chewelah\t2412_498.tif;E:\StevensCo_6in_orthos\Chewelah\t2412_501.tif;E:\StevensCo_6in_orthos\Chewelah\t2412_504.tif E:\StevensCo_6in_orthos\Chewelah ChMosaic.tif # 8_BIT_UNSIGNED # 4 MAXIMUM FIRST</Process>
<Process Date="20130107" Time="141942" ToolSource="c:\program files\arcgis\desktop10.1\ArcToolbox\Toolboxes\Data Management Tools.tbx\ProjectRaster">ProjectRaster E:\StevensCo_6in_orthos\Chewelah\ChMosaic.tif E:\StevensCo_6in_orthos\Chewelah\ChMosaic_ProjectRaster.tif PROJCS['NAD_1983_UTM_Zone_11N',GEOGCS['GCS_North_American_1983',DATUM['D_North_American_1983',SPHEROID['GRS_1980',6378137.0,298.257222101]],PRIMEM['Greenwich',0.0],UNIT['Degree',0.0174532925199433]],PROJECTION['Transverse_Mercator'],PARAMETER['False_Easting',500000.0],PARAMETER['False_Northing',0.0],PARAMETER['Central_Meridian',-117.0],PARAMETER['Scale_Factor',0.9996],PARAMETER['Latitude_Of_Origin',0.0],UNIT['Meter',1.0]] NEAREST 0.15240030480061 # # PROJCS['NAD_1983_StatePlane_Washington_North_FIPS_4601_Feet',GEOGCS['GCS_North_American_1983',DATUM['D_North_American_1983',SPHEROID['GRS_1980',6378137.0,298.257222101]],PRIMEM['Greenwich',0.0],UNIT['Degree',0.0174532925199433]],PROJECTION['Lambert_Conformal_Conic'],PARAMETER['False_Easting',1640416.666666667],PARAMETER['False_Northing',0.0],PARAMETER['Central_Meridian',-120.8333333333333],PARAMETER['Standard_Parallel_1',47.5],PARAMETER['Standard_Parallel_2',48.73333333333333],PARAMETER['Latitude_Of_Origin',47.0],UNIT['Foot_US',0.3048006096012192]]</Process>
</lineage>
</DataProperties>
<SyncDate>20130107</SyncDate>
<SyncTime>14031900</SyncTime>
<ModDate>20130107</ModDate>
<ModTime>14031900</ModTime>
</Esri>
<dataIdInfo>
<envirDesc Sync="TRUE">Microsoft Windows 7 Version 6.1 (Build 7600) ; Esri ArcGIS 10.1.1.3143</envirDesc>
<dataLang>
<languageCode Sync="TRUE" value="eng"/>
<countryCode Sync="TRUE" value="USA"/>
</dataLang>
<idCitation>
<resTitle Sync="TRUE">Chewelah_2012_6in_tif</resTitle>
<presForm>
<PresFormCd Sync="TRUE" value="005"/>
</presForm>
</idCitation>
<spatRpType>
<SpatRepTypCd Sync="TRUE" value="002"/>
</spatRpType>
<dataExt>
<geoEle>
<GeoBndBox esriExtentType="search">
<exTypeCode Sync="TRUE">1</exTypeCode>
<westBL Sync="TRUE">-117.815437</westBL>
<eastBL Sync="TRUE">-117.645847</eastBL>
<northBL Sync="TRUE">48.351264</northBL>
<southBL Sync="TRUE">48.238099</southBL>
</GeoBndBox>
</geoEle>
</dataExt>
<idAbs/>
<idPurp/>
<idCredit/>
<resConst>
<Consts>
<useLimit/>
</Consts>
</resConst>
</dataIdInfo>
<mdLang>
<languageCode Sync="TRUE" value="eng"/>
<countryCode Sync="TRUE" value="USA"/>
</mdLang>
<mdChar>
<CharSetCd Sync="TRUE" value="004"/>
</mdChar>
<distInfo>
<distFormat>
<formatName Sync="TRUE">Raster Dataset</formatName>
</distFormat>
</distInfo>
<mdHrLv>
<ScopeCd Sync="TRUE" value="005"/>
</mdHrLv>
<mdHrLvName Sync="TRUE">dataset</mdHrLvName>
<refSysInfo>
<RefSystem>
<refSysID>
<identCode Sync="TRUE" code="26911"/>
<idCodeSpace Sync="TRUE">EPSG</idCodeSpace>
<idVersion Sync="TRUE">7.11.2</idVersion>
</refSysID>
</RefSystem>
</refSysInfo>
<spatRepInfo>
<Georect>
<cellGeo>
<CellGeoCd Sync="TRUE" value="002"/>
</cellGeo>
<numDims Sync="TRUE">2</numDims>
<tranParaAv Sync="TRUE">1</tranParaAv>
<chkPtAv Sync="TRUE">0</chkPtAv>
<cornerPts>
<pos Sync="TRUE">439585.082365 5343084.483338</pos>
</cornerPts>
<cornerPts>
<pos Sync="TRUE">439585.082365 5355545.341859</pos>
</cornerPts>
<cornerPts>
<pos Sync="TRUE">452045.940887 5355545.341859</pos>
</cornerPts>
<cornerPts>
<pos Sync="TRUE">452045.940887 5343084.483338</pos>
</cornerPts>
<centerPt>
<pos Sync="TRUE">445815.511626 5349314.912599</pos>
</centerPt>
<axisDimension type="002">
<dimSize Sync="TRUE">81764</dimSize>
<dimResol>
<value Sync="TRUE" uom="Meter">0.152400</value>
</dimResol>
</axisDimension>
<axisDimension type="001">
<dimSize Sync="TRUE">81764</dimSize>
<dimResol>
<value Sync="TRUE" uom="Meter">0.152400</value>
</dimResol>
</axisDimension>
<ptInPixel>
<PixOrientCd Sync="TRUE" value="001"/>
</ptInPixel>
</Georect>
</spatRepInfo>
<contInfo>
<ImgDesc>
<contentTyp>
<ContentTypCd Sync="TRUE" value="001"/>
</contentTyp>
<covDim>
<Band>
<dimDescrp Sync="TRUE">Band_1</dimDescrp>
<bitsPerVal Sync="TRUE">8</bitsPerVal>
<valUnit>
<UOM type="length"/>
</valUnit>
</Band>
<Band>
<dimDescrp Sync="TRUE">Band_2</dimDescrp>
<bitsPerVal Sync="TRUE">8</bitsPerVal>
<valUnit>
<UOM type="length"/>
</valUnit>
</Band>
<Band>
<dimDescrp Sync="TRUE">Band_3</dimDescrp>
<bitsPerVal Sync="TRUE">8</bitsPerVal>
<valUnit>
<UOM type="length"/>
</valUnit>
</Band>
<Band>
<dimDescrp Sync="TRUE">Band_4</dimDescrp>
<bitsPerVal Sync="TRUE">8</bitsPerVal>
<valUnit>
<UOM type="length"/>
</valUnit>
</Band>
</covDim>
</ImgDesc>
</contInfo>
<mdDateSt Sync="TRUE">20130107</mdDateSt>
</metadata>
