View In:
ArcGIS JavaScript
ArcGIS Online Map Viewer
ArcGIS Earth
Service Description: Chewelah_2012_6in_tif
Name: Chewelah_2012_6in_tif
Description:
Single Fused Map Cache: false
Extent:
XMin: 439585.08236546227
YMin: 5343084.483337762
XMax: 452045.9408871793
YMax: 5355545.3418594785
Spatial Reference: 26911
(26911)
LatestVCSWkid(0)
Initial Extent:
XMin: 439585.08236546227
YMin: 5343084.483337762
XMax: 452045.9408871793
YMax: 5355545.3418594785
Spatial Reference: 26911
(26911)
LatestVCSWkid(0)
Full Extent:
XMin: 439585.08236546227
YMin: 5343084.483337762
XMax: 452045.9408871793
YMax: 5355545.3418594785
Spatial Reference: 26911
(26911)
LatestVCSWkid(0)
Pixel Size X: 0.1524003048006093
Pixel Size Y: 0.152400304800605
Band Count: 4
Pixel Type: U8
RasterFunction Infos: {"rasterFunctionInfos": [{
"name": "None",
"description": "",
"help": ""
}]}
Mensuration Capabilities: Basic
Inspection Capabilities:
Has Histograms: true
Has Colormap: false
Has Multi Dimensions : false
Rendering Rule:
Min Scale: 0
Max Scale: 0
Copyright Text:
Service Data Type: esriImageServiceDataTypeGeneric
Min Values: 0, 0, 0, 0
Max Values: 255, 255, 255, 219
Mean Values: 73.706570964072, 82.296641958446, 70.21436022728, 109.61892156571
Standard Deviation Values: 39.136815291923, 38.947325614429, 30.280398823361, 50.162753261675
Object ID Field:
Fields:
None
Default Mosaic Method: Center
Allowed Mosaic Methods:
SortField:
SortValue: null
Mosaic Operator: First
Default Compression Quality: 75
Default Resampling Method: Bilinear
Max Record Count: null
Max Image Height: 4100
Max Image Width: 15000
Max Download Image Count: null
Max Mosaic Image Count: null
Allow Raster Function: true
Allow Copy: true
Allow Analysis: true
Allow Compute TiePoints: false
Supports Statistics: false
Supports Advanced Queries: false
Use StandardizedQueries: true
Raster Type Infos:
Name: Raster Dataset
Description: Supports all ArcGIS Raster Datasets
Help:
Has Raster Attribute Table: false
Edit Fields Info: null
Ownership Based AccessControl For Rasters: null
Child Resources:
Info
Histograms
Statistics
Key Properties
Legend
Raster Function Infos
Supported Operations:
Export Image
Identify
Measure
Compute Histograms
Compute Statistics Histograms
Get Samples
Compute Class Statistics
Query Boundary
Compute Pixel Location
Compute Angles
Validate
Project