View In:
ArcGIS JavaScript
ArcGIS Online Map Viewer
ArcGIS Earth
Service Description: Hillshade
Name: Hillshade
Description:
Single Fused Map Cache: false
Extent:
XMin: 2235353.7145721316
YMin: 301391.0430122324
XMax: 2470908.1824386427
YMax: 747825.8378048986
Spatial Reference: 2926
(2926)
LatestVCSWkid(0)
Initial Extent:
XMin: 2235353.7145721316
YMin: 301391.0430122324
XMax: 2470908.1824386427
YMax: 747825.8378048986
Spatial Reference: 2926
(2926)
LatestVCSWkid(0)
Full Extent:
XMin: 2235353.7145721316
YMin: 301391.0430122324
XMax: 2470908.1824386427
YMax: 747825.8378048986
Spatial Reference: 2926
(2926)
LatestVCSWkid(0)
Pixel Size X: 28.747189146510994
Pixel Size Y: 28.746606232625
Band Count: 1
Pixel Type: F32
RasterFunction Infos: {"rasterFunctionInfos": [{
"name": "None",
"description": "",
"help": ""
}]}
Mensuration Capabilities: Basic
Inspection Capabilities:
Has Histograms: true
Has Colormap: false
Has Multi Dimensions : false
Rendering Rule:
Min Scale: 0
Max Scale: 0
Copyright Text:
Service Data Type: esriImageServiceDataTypeThematic
Min Values: 0
Max Values: 254
Mean Values: 179.46473425065
Standard Deviation Values: 11.750640566449
Object ID Field:
Fields:
None
Default Mosaic Method: Center
Allowed Mosaic Methods:
SortField:
SortValue: null
Mosaic Operator: First
Default Compression Quality: 75
Default Resampling Method: Bilinear
Max Record Count: null
Max Image Height: 4100
Max Image Width: 15000
Max Download Image Count: null
Max Mosaic Image Count: null
Allow Raster Function: true
Allow Copy: true
Allow Analysis: true
Allow Compute TiePoints: false
Supports Statistics: false
Supports Advanced Queries: false
Use StandardizedQueries: true
Raster Type Infos:
Name: Raster Dataset
Description: Supports all ArcGIS Raster Datasets
Help:
Has Raster Attribute Table: false
Edit Fields Info: null
Ownership Based AccessControl For Rasters: null
Child Resources:
Info
Histograms
Statistics
Key Properties
Legend
Raster Function Infos
Supported Operations:
Export Image
Identify
Measure
Compute Histograms
Compute Statistics Histograms
Get Samples
Compute Class Statistics
Query Boundary
Compute Pixel Location
Compute Angles
Validate
Project