View In:
ArcGIS JavaScript
ArcGIS Online Map Viewer
ArcGIS Earth
Service Description: Imagery_2011
Name: Imagery_2011
Description:
Single Fused Map Cache: false
Extent:
XMin: 395097.8716499993
YMin: 5293087.550000002
XMax: 467813.0716499993
YMax: 5428822.550000002
Spatial Reference: 26911
(26911)
LatestVCSWkid(0)
Initial Extent:
XMin: 395097.8716499993
YMin: 5293087.550000002
XMax: 467813.0716499993
YMax: 5428822.550000002
Spatial Reference: 26911
(26911)
LatestVCSWkid(0)
Full Extent:
XMin: 395097.8716499993
YMin: 5293087.550000002
XMax: 467813.0716499993
YMax: 5428822.550000002
Spatial Reference: 26911
(26911)
LatestVCSWkid(0)
Pixel Size X: 0.30000000000000004
Pixel Size Y: 0.3
Band Count: 3
Pixel Type: U8
RasterFunction Infos: {"rasterFunctionInfos": [{
"name": "None",
"description": "",
"help": ""
}]}
Mensuration Capabilities: Basic
Inspection Capabilities:
Has Histograms: true
Has Colormap: false
Has Multi Dimensions : false
Rendering Rule:
Min Scale: 0
Max Scale: 0
Copyright Text:
Service Data Type: esriImageServiceDataTypeRGB
Min Values: 0, 0, 0
Max Values: 206, 197, 189
Mean Values: 53.604354354354, 63.765615615616, 54.773723723724
Standard Deviation Values: 43.880116632642, 48.687742452917, 43.572186491883
Object ID Field:
Fields:
None
Default Mosaic Method: Center
Allowed Mosaic Methods:
SortField:
SortValue: null
Mosaic Operator: First
Default Compression Quality: 75
Default Resampling Method: Bilinear
Max Record Count: null
Max Image Height: 4100
Max Image Width: 15000
Max Download Image Count: null
Max Mosaic Image Count: null
Allow Raster Function: true
Allow Copy: true
Allow Analysis: true
Allow Compute TiePoints: false
Supports Statistics: false
Supports Advanced Queries: false
Use StandardizedQueries: true
Raster Type Infos:
Name: Raster Dataset
Description: Supports all ArcGIS Raster Datasets
Help:
Has Raster Attribute Table: false
Edit Fields Info: null
Ownership Based AccessControl For Rasters: null
Child Resources:
Info
Histograms
Statistics
Key Properties
Legend
Raster Function Infos
Supported Operations:
Export Image
Identify
Measure
Compute Histograms
Compute Statistics Histograms
Get Samples
Compute Class Statistics
Query Boundary
Compute Pixel Location
Compute Angles
Validate
Project